BEGIN:VCALENDAR
VERSION:2.0
PRODID:-//wp-events-plugin.com//7.2.3.1//EN
TZID:America/Los_Angeles
X-WR-TIMEZONE:America/Los_Angeles
BEGIN:VEVENT
UID:4087@parentingoc.guidoclients.com
DTSTART;TZID=America/Los_Angeles:20250707T090000
DTEND;TZID=America/Los_Angeles:20250728T120000
DTSTAMP:20250716T221108Z
URL:https://parentingoc.guidoclients.com/events/casa-romantica-family-prog
 rams-2/
SUMMARY:Casa Romantica Family Programs
DESCRIPTION:Experience some retro summer vibes at Casa Cinema’s screening
  of Beach Party. The iconic 1963 Frankie &amp\; Annette movie will screen 
 in the Casa’s Courtyard on July 15 at 8 pm\; RSVPs are requested at http
 s://casaromanticasc.ticketspice.com/film-screenings. Casa Kids Creative Ca
 mp (9 am-12 pm) is held on Mondays throughout July for kids 7-10. Find det
 ails at\n\nhttps://www.casaromantica.org/education/creative-camp/ \n\nhtt
 ps://www.casaromantica.org
ATTACH;FMTTYPE=image/jpeg:https://parentingoc.guidoclients.com/wp-content/
 uploads/2025/07/Casa-Romantica-Family-Programs_courtesy-Casa-Romatnica.web
 _.jpg
CATEGORIES:Arts &amp; Crafts,Kids,Music, Theater &amp; Entertainment
LOCATION:415 Avenida Granada\, 415 Avenida Granada\, San Clemente\, United 
 States
X-APPLE-STRUCTURED-LOCATION;VALUE=URI;X-ADDRESS=415 Avenida Granada\, San C
 lemente\, United States;X-APPLE-RADIUS=100;X-TITLE=415 Avenida Granada:geo
 :0,0
END:VEVENT
BEGIN:VTIMEZONE
TZID:America/Los_Angeles
X-LIC-LOCATION:America/Los_Angeles
BEGIN:DAYLIGHT
DTSTART:20250309T030000
TZOFFSETFROM:-0800
TZOFFSETTO:-0700
TZNAME:PDT
END:DAYLIGHT
END:VTIMEZONE
END:VCALENDAR