BEGIN:VCALENDAR
VERSION:2.0
PRODID:-//wp-events-plugin.com//7.2.3.1//EN
TZID:America/Los_Angeles
X-WR-TIMEZONE:America/Los_Angeles
BEGIN:VEVENT
UID:3150@parentingoc.guidoclients.com
DTSTART;TZID=America/Los_Angeles:20241006T180000
DTEND;TZID=America/Los_Angeles:20241029T220000
DTSTAMP:20240926T182611Z
URL:https://parentingoc.guidoclients.com/events/carved/
SUMMARY:Carved
DESCRIPTION:Descanso Gardens in La Cañada Flintridge will once again be po
 pulated with a plethora of carved pumpkins. This year\, you’ll find the 
 new Descanso Railroad specially lit for Carved\, as well as a family of wo
 od spirits carved from five enormous logs. Marvel too over the majestic ja
 ck-o’-lanterns and hand-carved giant pumpkins along with the fantastic 
 “Rhizome” installation. Carved is open nightly 6 pm-10 pm from October
  4-30. Timed entry tickets must be purchased in advance at \n\n https://
 www.descansogardens.org/programs-events/carved/\n\n&nbsp\;
ATTACH;FMTTYPE=image/jpeg:https://parentingoc.guidoclients.com/wp-content/
 uploads/2024/09/Carved_courtesy-Descanso-Gardens.web_.1.jpg
CATEGORIES:Arts &amp; Crafts,Halloween,Outdoors &amp; Animals
LOCATION:Descanso Gardens\, 1418 Descanso Drive\, La Cañada Flintridge\, C
 A\, United States
X-APPLE-STRUCTURED-LOCATION;VALUE=URI;X-ADDRESS=1418 Descanso Drive\, La Ca
 ñada Flintridge\, CA\, United States;X-APPLE-RADIUS=100;X-TITLE=Descanso 
 Gardens:geo:0,0
END:VEVENT
BEGIN:VTIMEZONE
TZID:America/Los_Angeles
X-LIC-LOCATION:America/Los_Angeles
BEGIN:DAYLIGHT
DTSTART:20240310T030000
TZOFFSETFROM:-0800
TZOFFSETTO:-0700
TZNAME:PDT
END:DAYLIGHT
END:VTIMEZONE
END:VCALENDAR