BEGIN:VCALENDAR
VERSION:2.0
PRODID:-//wp-events-plugin.com//7.2.3.1//EN
TZID:America/Los_Angeles
X-WR-TIMEZONE:America/Los_Angeles
BEGIN:VEVENT
UID:778@parentingoc.guidoclients.com
DTSTART;TZID=America/Los_Angeles:20230802T180000
DTEND;TZID=America/Los_Angeles:20230802T210000
DTSTAMP:20230727T175934Z
URL:https://parentingoc.guidoclients.com/events/buena-parks-free-summer-se
 ries/
SUMMARY:Buena Park’s Free Summer Series
DESCRIPTION:This summer series holds its last concert on August 2. FlashPan
 ts stages a super-charged Vegas-style performance of high-energy 80s dance
  music in Boisseranc Park from 6 pm-9 pm. Boisseranc Park also is the spot
  to watch the enchanting movie\, Encanto\, on August 11. The screening\, w
 hich is the final one in the city’s Family Movies Under the Stars\, happ
 ens at 8 pm\, with seating opening at 7 pm. \n\nhttps://www.buenapark.com
 /city_departments/community_services/special_events/
CATEGORIES:Free,Music, Theater &amp; Entertainment
END:VEVENT
BEGIN:VTIMEZONE
TZID:America/Los_Angeles
X-LIC-LOCATION:America/Los_Angeles
BEGIN:DAYLIGHT
DTSTART:20230312T030000
TZOFFSETFROM:-0800
TZOFFSETTO:-0700
TZNAME:PDT
END:DAYLIGHT
END:VTIMEZONE
END:VCALENDAR