BEGIN:VCALENDAR
VERSION:2.0
PRODID:-//wp-events-plugin.com//7.2.3.1//EN
TZID:America/Los_Angeles
X-WR-TIMEZONE:America/Los_Angeles
BEGIN:VEVENT
UID:4182@parentingoc.guidoclients.com
DTSTART;TZID=America/Los_Angeles:20251004T100000
DTEND;TZID=America/Los_Angeles:20251026T210000
DTSTAMP:20251003T190757Z
URL:https://parentingoc.guidoclients.com/events/brick-or-treat-monster-par
 ty-8/
SUMMARY:Brick-or-Treat Monster Party
DESCRIPTION:Experience a monstrously fun time at Legoland’s Halloween par
 ty. Check out the prehistoric pumpkin patch\, Lord Vampyre’s Costume Par
 ty\, and the Disco Dragon Coaster. Enjoy the Monster Band performances and
  the Zombie University’s cheerleader tryouts. The Ghost Cruise\, Hallowe
 en Driving School and the Monster Halloween Hub are this year’s new attr
 actions. There’ll be plenty of candy opportunities too. The Party occurs
  September 27\, October 4-5\, 11-12\, 18-19\, 25-26 and November 1. Ticket
 s at:\n\nhttps://www.legoland.com/california/things-to-do/seasonal-events/
 brick-or-treat/\n\n&nbsp\;
CATEGORIES:Amusement Parks,Halloween,Music, Theater &amp; Entertainment
LOCATION:Legoland\, One Legoland Drive\, Carlsbad\, CA\, United States
X-APPLE-STRUCTURED-LOCATION;VALUE=URI;X-ADDRESS=One Legoland Drive\, Carlsb
 ad\, CA\, United States;X-APPLE-RADIUS=100;X-TITLE=Legoland:geo:0,0
END:VEVENT
BEGIN:VTIMEZONE
TZID:America/Los_Angeles
X-LIC-LOCATION:America/Los_Angeles
BEGIN:DAYLIGHT
DTSTART:20250309T030000
TZOFFSETFROM:-0800
TZOFFSETTO:-0700
TZNAME:PDT
END:DAYLIGHT
END:VTIMEZONE
END:VCALENDAR