BEGIN:VCALENDAR
VERSION:2.0
PRODID:-//wp-events-plugin.com//7.2.3.1//EN
TZID:America/Los_Angeles
X-WR-TIMEZONE:America/Los_Angeles
BEGIN:VEVENT
UID:4141@parentingoc.guidoclients.com
DTSTART;TZID=America/Los_Angeles:20250830T103000
DTEND;TZID=America/Los_Angeles:20250830T120000
DTSTAMP:20250715T212401Z
URL:https://parentingoc.guidoclients.com/events/bowers-books-for-kids-stor
 ytime-in-the-galleries-17/
SUMMARY:Bowers' Books for Kids: Storytime in the Galleries 
DESCRIPTION:Join author Derek Taylor Kent on August 30 for a reading on his
  new book\, The Leaning Tower of Pizza\, a whimsical tale that involves cu
 ltures\, cuisines\, world travel\, and landmarks. The storytime will be he
 ld in the John M. Lee Court from 10:30 am-12 pm\, and it will include a re
 lated art project. Space is limited\; RSVP at https://buy.acmeticketing.co
 m/orders/311/tickets?eventId=684a208c1d4790456635c20b&amp\;cdEventIds=nc&a
 mp\;date=2025-08-30T10:30:00-07:00 \n\nhttps://bowers.org/index.php/progr
 ams/family-programs/bowers-books-for-kids-storytime-in-the-galleries-with-
 author-derek-taylor-kent
ATTACH;FMTTYPE=image/jpeg:https://parentingoc.guidoclients.com/wp-content/
 uploads/2025/07/Bowers-Books-for-Kids-Storytime-in-the-Galleries_courtesy-
 Bowers-Museum-scaled.jpg
CATEGORIES:Arts &amp; Crafts,Education &amp; Workshops,Kids
LOCATION:Bowers Museum\, 2002 North Main Street\, Santa Ana\, United States
X-APPLE-STRUCTURED-LOCATION;VALUE=URI;X-ADDRESS=2002 North Main Street\, Sa
 nta Ana\, United States;X-APPLE-RADIUS=100;X-TITLE=Bowers Museum:geo:0,0
END:VEVENT
BEGIN:VTIMEZONE
TZID:America/Los_Angeles
X-LIC-LOCATION:America/Los_Angeles
BEGIN:DAYLIGHT
DTSTART:20250309T030000
TZOFFSETFROM:-0800
TZOFFSETTO:-0700
TZNAME:PDT
END:DAYLIGHT
END:VTIMEZONE
END:VCALENDAR