BEGIN:VCALENDAR
VERSION:2.0
PRODID:-//wp-events-plugin.com//7.2.3.1//EN
TZID:America/Los_Angeles
X-WR-TIMEZONE:America/Los_Angeles
BEGIN:VEVENT
UID:4166@parentingoc.guidoclients.com
DTSTART;TZID=America/Los_Angeles:20251018T173000
DTEND;TZID=America/Los_Angeles:20251019T193000
DTSTAMP:20251007T204952Z
URL:https://parentingoc.guidoclients.com/events/boo-at-the-zoo-4/
SUMMARY:Boo at the Zoo
DESCRIPTION:The Santa Ana Zoo invites families to a “merry not scary” H
 alloween experience. Everyone is encouraged to wear a costume and visit wi
 th the zoo’s nocturnal animals\, go on a scavenger hunt\, take a ride on
  the “Boofari” Express Train\, and enjoy other Halloween-themed activi
 ties. Kids will have a great time exploring the 10 toys/treats stations ar
 ound the zoo. “Boo” hours are 5:30 pm-7:30 pm October 18-19 &amp\; 25-
 26. Purchase tickets at https://santaanazoo.ticketsauce.com/e/boo-at-the-z
 oo-2025 \n\nhttps://santaanazoo.ticketsauce.com/e/boo-at-the-zoo-2025\n\n
 &nbsp\;
ATTACH;FMTTYPE=image/jpeg:https://parentingoc.guidoclients.com/wp-content/
 uploads/2025/10/IMG_8878.jpeg
CATEGORIES:Halloween,Kids,Outdoors &amp; Animals,Things To Do
LOCATION:Santa Ana Zoo\, 1801 East Chestnut Avenue\, Santa Ana\, CA\, Unite
 d States
X-APPLE-STRUCTURED-LOCATION;VALUE=URI;X-ADDRESS=1801 East Chestnut Avenue\,
  Santa Ana\, CA\, United States;X-APPLE-RADIUS=100;X-TITLE=Santa Ana Zoo:g
 eo:0,0
END:VEVENT
BEGIN:VTIMEZONE
TZID:America/Los_Angeles
X-LIC-LOCATION:America/Los_Angeles
BEGIN:DAYLIGHT
DTSTART:20250309T030000
TZOFFSETFROM:-0800
TZOFFSETTO:-0700
TZNAME:PDT
END:DAYLIGHT
END:VTIMEZONE
END:VCALENDAR