BEGIN:VCALENDAR
VERSION:2.0
PRODID:-//wp-events-plugin.com//7.2.3.1//EN
TZID:America/Los_Angeles
X-WR-TIMEZONE:America/Los_Angeles
BEGIN:VEVENT
UID:2494@parentingoc.guidoclients.com
DTSTART;TZID=America/Los_Angeles:20240630T090000
DTEND;TZID=America/Los_Angeles:20240630T110000
DTSTAMP:20240528T190127Z
URL:https://parentingoc.guidoclients.com/events/aquarium-of-the-pacific-yo
 uth-educational-programs-2/
SUMMARY:Aquarium of the Pacific Youth Educational Programs
DESCRIPTION:Marine life-loving youngsters (ages 7-12) can find out about fi
 sh on June 15 and sharks on June 30. Ocean Investigators classes (9 am-11 
 am) feature themed activities\, interactions with the Aquarium animal care
  staff\, and a guided tour.\n\nhttps://www.aquariumofpacific.org/event\n\n
 https://www.aquariumofpacific.org/events/info/ocean_investigators
CATEGORIES:Education &amp; Workshops,Outdoors &amp; Animals
LOCATION:Aquarium of the Pacific\, 100 Aquarium Way\, Long Beach\, United S
 tates
X-APPLE-STRUCTURED-LOCATION;VALUE=URI;X-ADDRESS=100 Aquarium Way\, Long Bea
 ch\, United States;X-APPLE-RADIUS=100;X-TITLE=Aquarium of the Pacific:geo:
 0,0
END:VEVENT
BEGIN:VTIMEZONE
TZID:America/Los_Angeles
X-LIC-LOCATION:America/Los_Angeles
BEGIN:DAYLIGHT
DTSTART:20240310T030000
TZOFFSETFROM:-0800
TZOFFSETTO:-0700
TZNAME:PDT
END:DAYLIGHT
END:VTIMEZONE
END:VCALENDAR