BEGIN:VCALENDAR
VERSION:2.0
PRODID:-//wp-events-plugin.com//7.2.3.1//EN
TZID:America/Los_Angeles
X-WR-TIMEZONE:America/Los_Angeles
BEGIN:VEVENT
UID:4155@parentingoc.guidoclients.com
DTSTART;TZID=America/Los_Angeles:20251025T110000
DTEND;TZID=America/Los_Angeles:20251025T200000
DTSTAMP:20251003T174928Z
URL:https://parentingoc.guidoclients.com/events/anaheim-fall-festival-hall
 oween-parade/
SUMMARY:Anaheim Fall Festival & Halloween Parade
DESCRIPTION:One of Orange County’s longest-running fall fests has a new h
 ome – in Anaheim’s newest city park\, Center Greens. On October 25\, f
 rom 11 am-5 pm\, the festival serves up live entertainment\, kids crafts\,
  artist booths\, food vendors\, costume contests\, and a parade float scav
 enger hunt. At 7 pm\, the popular Halloween Parade commences at Anaheim Bl
 vd. &amp\; Broadway and proceeds through downtown Anaheim to the intersect
 ion of Broadway and West Street.\n\nhttps://www.anaheimfallfestival.org
CATEGORIES:Arts &amp; Crafts,Fairs &amp; Festivals,Food &amp;
 Drink,Halloween,Kids,Music, Theater &amp; Entertainment,Sports &amp; Games
LOCATION:Center Greens Park\, 305 E. Broadway \, Anaheim\, California \, Un
 ited States
X-APPLE-STRUCTURED-LOCATION;VALUE=URI;X-ADDRESS=305 E. Broadway \, Anaheim\
 , California \, United States;X-APPLE-RADIUS=100;X-TITLE=Center Greens Par
 k:geo:0,0
END:VEVENT
BEGIN:VTIMEZONE
TZID:America/Los_Angeles
X-LIC-LOCATION:America/Los_Angeles
BEGIN:DAYLIGHT
DTSTART:20250309T030000
TZOFFSETFROM:-0800
TZOFFSETTO:-0700
TZNAME:PDT
END:DAYLIGHT
END:VTIMEZONE
END:VCALENDAR