BEGIN:VCALENDAR
VERSION:2.0
PRODID:-//wp-events-plugin.com//7.2.3.1//EN
TZID:America/Los_Angeles
X-WR-TIMEZONE:America/Los_Angeles
BEGIN:VEVENT
UID:3545@parentingoc.guidoclients.com
DTSTART;TZID=America/Los_Angeles:20250122T090000
DTEND;TZID=America/Los_Angeles:20250123T170000
DTSTAMP:20250121T202637Z
URL:https://parentingoc.guidoclients.com/events/african-american-festival/
SUMMARY:African American Festival
DESCRIPTION:https://www.aquariumofpacific.org/events/info/african_american_
 festival/\n\nFor the 23rd year\, the Aquarium of the Pacific hosts this fe
 stival that honors African American culture. Over the weekend\, February 2
 2-23\, Aquarium-goers can enjoy a program of live bands\, hip-hop and brea
 k dance performances\, storytelling\, drum circles\, and historical displa
 ys. It will also be the occasion that the Aquarium presents its annual Her
 itage Award ceremony. Remember to make your required advance reservations 
 at https://www.aquariumofpacific.org/visit/tickets\n\n https://www.aquari
 umofpacific.org/visit/tickets
ATTACH;FMTTYPE=image/jpeg:https://parentingoc.guidoclients.com/wp-content/
 uploads/2025/01/African-American-Festival_courtesy-Aquarium-of-the-Pacific
 .2.jpg
CATEGORIES:Amusement Parks,Fairs &amp; Festivals,Music, Theater &amp;
 Entertainment
LOCATION:100 Aquarium Way\, 100 Aquarium Way\, Long Beach\, United States
X-APPLE-STRUCTURED-LOCATION;VALUE=URI;X-ADDRESS=100 Aquarium Way\, Long Bea
 ch\, United States;X-APPLE-RADIUS=100;X-TITLE=100 Aquarium Way:geo:0,0
END:VEVENT
BEGIN:VTIMEZONE
TZID:America/Los_Angeles
X-LIC-LOCATION:America/Los_Angeles
BEGIN:STANDARD
DTSTART:20241103T010000
TZOFFSETFROM:-0700
TZOFFSETTO:-0800
TZNAME:PST
END:STANDARD
END:VTIMEZONE
END:VCALENDAR