BEGIN:VCALENDAR
VERSION:2.0
PRODID:-//wp-events-plugin.com//7.2.3.1//EN
TZID:America/Los_Angeles
X-WR-TIMEZONE:America/Los_Angeles
BEGIN:VEVENT
UID:3699@parentingoc.guidoclients.com
DTSTART;TZID=America/Los_Angeles:20250328T110000
DTEND;TZID=America/Los_Angeles:20250328T120000
DTSTAMP:20250306T192103Z
URL:https://parentingoc.guidoclients.com/events/acting-on-hunger-with-seco
 nd-harvest-2/
SUMMARY:Acting On Hunger With Second Harvest
DESCRIPTION:Pretend City is partnering again with the Second Harvest Food B
 ank for an important day offering volunteering opportunities on March 28. 
 Between 11 am-12 pm\, children have the chance to package fruits that will
  be delivered to families in need all around Orange County. It’s a terri
 fic chance for youngsters to learn valuable lessons about helping others a
 nd making a positive impact on the community.\n\nhttps://www.pretendcity.o
 rg/events/acting-on-hunger-with-second-harvest/\n\n&nbsp\;
CATEGORIES:Charity,Kids
LOCATION:Pretend City Children's Museum\, 29 Hubble\, Irvine\, CA\, United 
 States
X-APPLE-STRUCTURED-LOCATION;VALUE=URI;X-ADDRESS=29 Hubble\, Irvine\, CA\, U
 nited States;X-APPLE-RADIUS=100;X-TITLE=Pretend City Children's Museum:geo
 :0,0
END:VEVENT
BEGIN:VTIMEZONE
TZID:America/Los_Angeles
X-LIC-LOCATION:America/Los_Angeles
BEGIN:DAYLIGHT
DTSTART:20250309T030000
TZOFFSETFROM:-0800
TZOFFSETTO:-0700
TZNAME:PDT
END:DAYLIGHT
END:VTIMEZONE
END:VCALENDAR