BEGIN:VCALENDAR
VERSION:2.0
PRODID:-//wp-events-plugin.com//7.2.3.1//EN
TZID:America/Los_Angeles
X-WR-TIMEZONE:America/Los_Angeles
BEGIN:VEVENT
UID:4165@parentingoc.guidoclients.com
DTSTART;TZID=America/Los_Angeles:20251011T100000
DTEND;TZID=America/Los_Angeles:20251011T180000
DTSTAMP:20251003T181839Z
URL:https://parentingoc.guidoclients.com/events/24th-annual-irvine-global-
 village-festival/
SUMMARY:24th Annual Irvine Global Village Festival
DESCRIPTION:Orange County's premier multicultural festival spotlights Irvin
 e’s diverse community. On October 11 (10 am-6 pm)\, you can stroll aroun
 d the Great Park and explore a great cross-section of world cultures. The 
 day presents a global marketplace\, art exhibits\, and an entertaining lin
 eup of music\, dance\, and other performances. Local restaurants will serv
 e up a broad range of cuisines. There will be games\, sport activities\, a
 nd a big Kids Village too.\n\nhttps://www.cityofirvine.org/irvine-global-v
 illage-festival\n\n&nbsp\;
CATEGORIES:Fairs &amp; Festivals,Food &amp; Drink,Kids,Museums &amp;
 Art,Music, Theater &amp; Entertainment,Sports &amp; Games
LOCATION:Great Park\, 8000 Great Park Blvd.\, Irvine\, United States
X-APPLE-STRUCTURED-LOCATION;VALUE=URI;X-ADDRESS=8000 Great Park Blvd.\, Irv
 ine\, United States;X-APPLE-RADIUS=100;X-TITLE=Great Park:geo:0,0
END:VEVENT
BEGIN:VTIMEZONE
TZID:America/Los_Angeles
X-LIC-LOCATION:America/Los_Angeles
BEGIN:DAYLIGHT
DTSTART:20250309T030000
TZOFFSETFROM:-0800
TZOFFSETTO:-0700
TZNAME:PDT
END:DAYLIGHT
END:VTIMEZONE
END:VCALENDAR